BEGIN:VCALENDAR
VERSION:2.0
PRODID:-//Lucas County Fair - ECPv6.15.20//NONSGML v1.0//EN
CALSCALE:GREGORIAN
METHOD:PUBLISH
X-ORIGINAL-URL:https://lucascountyfair.com
X-WR-CALDESC:Events for Lucas County Fair
REFRESH-INTERVAL;VALUE=DURATION:PT1H
X-Robots-Tag:noindex
X-PUBLISHED-TTL:PT1H
BEGIN:VTIMEZONE
TZID:America/Detroit
BEGIN:DAYLIGHT
TZOFFSETFROM:-0500
TZOFFSETTO:-0400
TZNAME:EDT
DTSTART:20250309T070000
END:DAYLIGHT
BEGIN:STANDARD
TZOFFSETFROM:-0400
TZOFFSETTO:-0500
TZNAME:EST
DTSTART:20251102T060000
END:STANDARD
BEGIN:DAYLIGHT
TZOFFSETFROM:-0500
TZOFFSETTO:-0400
TZNAME:EDT
DTSTART:20260308T070000
END:DAYLIGHT
BEGIN:STANDARD
TZOFFSETFROM:-0400
TZOFFSETTO:-0500
TZNAME:EST
DTSTART:20261101T060000
END:STANDARD
BEGIN:DAYLIGHT
TZOFFSETFROM:-0500
TZOFFSETTO:-0400
TZNAME:EDT
DTSTART:20270314T070000
END:DAYLIGHT
BEGIN:STANDARD
TZOFFSETFROM:-0400
TZOFFSETTO:-0500
TZNAME:EST
DTSTART:20271107T060000
END:STANDARD
END:VTIMEZONE
BEGIN:VEVENT
DTSTART;TZID=America/Detroit:20260607T120000
DTEND;TZID=America/Detroit:20260607T180000
DTSTAMP:20260425T112327
CREATED:20260425T004006Z
LAST-MODIFIED:20260425T004006Z
UID:10000292-1780833600-1780855200@lucascountyfair.com
SUMMARY:Kickoff to Summer!!
DESCRIPTION:Kickoff to Summer!!\n\n\n\n\nCome out to the Lucas County Fairgrounds to enjoy carnival rides\, fair food & drink\, and community. You can reserve a spot to participate in either the Summer Market or the Community Garage Sale\, or view the booths and come home with some new treasures! \nSunday\, June 7th\, for the Willow & Whiskers\, rides\, food\, and drink. \nFREE ADMISSION! \nRides paid prior to riding.
URL:https://lucascountyfair.com/events/kickoff-to-summer-3/
LOCATION:Lucas County Fairgrounds\, 1406 Key St.\, Maumee\, 43537\, United States
ATTACH;FMTTYPE=image/png:https://lucascountyfair.com/wp-content/uploads/2026/04/2026-June-Kickoff-To-Summer-Flyer-Event.png
END:VEVENT
END:VCALENDAR