BEGIN:VCALENDAR
VERSION:2.0
PRODID:-//Lucas County Fair - ECPv6.15.20//NONSGML v1.0//EN
CALSCALE:GREGORIAN
METHOD:PUBLISH
X-ORIGINAL-URL:https://lucascountyfair.com
X-WR-CALDESC:Events for Lucas County Fair
REFRESH-INTERVAL;VALUE=DURATION:PT1H
X-Robots-Tag:noindex
X-PUBLISHED-TTL:PT1H
BEGIN:VTIMEZONE
TZID:America/Detroit
BEGIN:DAYLIGHT
TZOFFSETFROM:-0500
TZOFFSETTO:-0400
TZNAME:EDT
DTSTART:20240310T070000
END:DAYLIGHT
BEGIN:STANDARD
TZOFFSETFROM:-0400
TZOFFSETTO:-0500
TZNAME:EST
DTSTART:20241103T060000
END:STANDARD
BEGIN:DAYLIGHT
TZOFFSETFROM:-0500
TZOFFSETTO:-0400
TZNAME:EDT
DTSTART:20250309T070000
END:DAYLIGHT
BEGIN:STANDARD
TZOFFSETFROM:-0400
TZOFFSETTO:-0500
TZNAME:EST
DTSTART:20251102T060000
END:STANDARD
BEGIN:DAYLIGHT
TZOFFSETFROM:-0500
TZOFFSETTO:-0400
TZNAME:EDT
DTSTART:20260308T070000
END:DAYLIGHT
BEGIN:STANDARD
TZOFFSETFROM:-0400
TZOFFSETTO:-0500
TZNAME:EST
DTSTART:20261101T060000
END:STANDARD
END:VTIMEZONE
BEGIN:VEVENT
DTSTART;TZID=America/Detroit:20251004T090000
DTEND;TZID=America/Detroit:20251004T170000
DTSTAMP:20260425T093747
CREATED:20250912T022704Z
LAST-MODIFIED:20250912T022704Z
UID:10000286-1759568400-1759597200@lucascountyfair.com
SUMMARY:Toledo's Best Kids Consignment Pop Up
DESCRIPTION:Outfitting Littles \nFeaturing clothes\, shoes\, baby gear\, sports equipment\, toys\, books\, games + MORE! \nTickets Recommended \nTickets are Free \nOPEN TO THE PUBLIC 9:00 AM – 11:00 AM \nHALF PRICE PRESALE 12:00 PM – 2:00 PM \nHALF PRICE SALE 2:00 PM – 5:00 PM \nSee flyer for more details. \nDOWNLOAD FLYER
URL:https://lucascountyfair.com/events/toledos-best-kids-consignment-pop-up-2/
LOCATION:Lucas County Fairgrounds\, 1406 Key St.\, Maumee\, 43537\, United States
ATTACH;FMTTYPE=image/png:https://lucascountyfair.com/wp-content/uploads/2025/09/Toldeo-Best-Kids.png
END:VEVENT
BEGIN:VEVENT
DTSTART;TZID=America/Detroit:20251003T090000
DTEND;TZID=America/Detroit:20251003T200000
DTSTAMP:20260425T093747
CREATED:20250912T021736Z
LAST-MODIFIED:20250912T023022Z
UID:10000285-1759482000-1759521600@lucascountyfair.com
SUMMARY:Toledo's Best Kids Consignment Pop Up
DESCRIPTION:Outfitting Littles \nFeaturing clothes\, shoes\, baby gear\, sports equipment\, toys\, books\, games + MORE! \nTickets Recommended \nTickets are Free \nOPEN TO PUBLIC 9:00 AM – 8:00 PM \nDOOR CLOSES AT 7:00 PM \nSee flyer for more details. \nDOWNLOAD FLYER
URL:https://lucascountyfair.com/events/7144/
LOCATION:Lucas County Fairgrounds\, 1406 Key St.\, Maumee\, 43537\, United States
ATTACH;FMTTYPE=image/png:https://lucascountyfair.com/wp-content/uploads/2025/09/Toldeo-Best-Kids.png
END:VEVENT
BEGIN:VEVENT
DTSTART;TZID=America/Detroit:20251002T090000
DTEND;TZID=America/Detroit:20251002T200000
DTSTAMP:20260425T093747
CREATED:20250912T020747Z
LAST-MODIFIED:20250912T022820Z
UID:10000284-1759395600-1759435200@lucascountyfair.com
SUMMARY:Toledo's Best Kids Consignment Pop Up
DESCRIPTION:Outfitting Littles \nFeaturing clothes\, shoes\, baby gear\, sports equipment\, toys\, books\, games + MORE! \nTickets Recommended \nTickets are Free \nSELLER\, HELPER\, AND SPONSOR PRESALE 9:00 AM – 8:00 pm Staggered Entry \nPUBLIC PRESALE 3:00 PM – 8:00 PM \nDOOR CLOSES AT 7:00 PM \nSee flyer for more details. \nDOWNLOAD FLYER
URL:https://lucascountyfair.com/events/toledos-best-kids-consignment-pop-up/
LOCATION:Lucas County Fairgrounds\, 1406 Key St.\, Maumee\, 43537\, United States
ATTACH;FMTTYPE=image/png:https://lucascountyfair.com/wp-content/uploads/2025/09/Toldeo-Best-Kids.png
END:VEVENT
BEGIN:VEVENT
DTSTART;TZID=America/Detroit:20250928T100000
DTEND;TZID=America/Detroit:20250928T170000
DTSTAMP:20260425T093747
CREATED:20250925T155628Z
LAST-MODIFIED:20250925T155628Z
UID:10000289-1759053600-1759078800@lucascountyfair.com
SUMMARY:Hot Tub & Swim Spa Blowout Expo
DESCRIPTION:Hot Tub & Swim Spa Blowout Expo \nThis Weekend\, SEPTEMBER 26 – 28\, 2025 \nLucas County Fairgrounds \nHours: Fri 2p-8p\, Sat 10a-8p\, Sun 10a-5p \nShow Admission Is Free \nSave Big on a huge selection of Hot Tubs and Swim Spas from major brands!  Over 30 Hot Tubs and Swim Spas will be on display from 5 major brands at huge discounts.  Financing is available (with approved credit). \nHotTubOH.com
URL:https://lucascountyfair.com/events/hot-tub-swim-spa-blowout-expo-3/
LOCATION:Lucas County Fairgrounds\, 1406 Key St.\, Maumee\, 43537\, United States
END:VEVENT
BEGIN:VEVENT
DTSTART;TZID=America/Detroit:20250927T100000
DTEND;TZID=America/Detroit:20250927T200000
DTSTAMP:20260425T093747
CREATED:20250925T155208Z
LAST-MODIFIED:20250925T155208Z
UID:10000288-1758967200-1759003200@lucascountyfair.com
SUMMARY:Hot Tub & Swim Spa Blowout Expo
DESCRIPTION:Hot Tub & Swim Spa Blowout Expo \nThis Weekend\, SEPTEMBER 26 – 28\, 2025 \nLucas County Fairgrounds \nHours: Fri 2p-8p\, Sat 10a-8p\, Sun 10a-5p \nShow Admission Is Free \nSave Big on a huge selection of Hot Tubs and Swim Spas from major brands!  Over 30 Hot Tubs and Swim Spas will be on display from 5 major brands at huge discounts.  Financing is available (with approved credit). \nHotTubOH.com
URL:https://lucascountyfair.com/events/hot-tub-swim-spa-blowout-expo-2/
LOCATION:Lucas County Fairgrounds\, 1406 Key St.\, Maumee\, 43537\, United States
ATTACH;FMTTYPE=image/jpeg:https://lucascountyfair.com/wp-content/uploads/2025/09/200x200.jpg
END:VEVENT
BEGIN:VEVENT
DTSTART;TZID=America/Detroit:20250926T140000
DTEND;TZID=America/Detroit:20250926T200000
DTSTAMP:20260425T093747
CREATED:20250925T155057Z
LAST-MODIFIED:20250925T155057Z
UID:10000287-1758895200-1758916800@lucascountyfair.com
SUMMARY:Hot Tub & Swim Spa Blowout Expo
DESCRIPTION:Hot Tub & Swim Spa Blowout Expo \nThis Weekend\, SEPTEMBER 26 – 28\, 2025 \nLucas County Fairgrounds \nHours: Fri 2p-8p\, Sat 10a-8p\, Sun 10a-5p \nShow Admission Is Free \nSave Big on a huge selection of Hot Tubs and Swim Spas from major brands!  Over 30 Hot Tubs and Swim Spas will be on display from 5 major brands at huge discounts.  Financing is available (with approved credit). \nHotTubOH.com
URL:https://lucascountyfair.com/events/hot-tub-swim-spa-blowout-expo/
LOCATION:Lucas County Fairgrounds\, 1406 Key St.\, Maumee\, 43537\, United States
ATTACH;FMTTYPE=image/jpeg:https://lucascountyfair.com/wp-content/uploads/2025/09/200x200.jpg
END:VEVENT
BEGIN:VEVENT
DTSTART;TZID=America/Detroit:20250913T090000
DTEND;TZID=America/Detroit:20250913T170000
DTSTAMP:20260425T093747
CREATED:20250816T011843Z
LAST-MODIFIED:20250816T013558Z
UID:10000283-1757754000-1757782800@lucascountyfair.com
SUMMARY:Community Garage Sale
DESCRIPTION:🛍 Lucas County Fair Community Garage Sale \n📅 Date: Saturday\, September 13\, 2025🕘 Time: 9:00 AM – 5:00 PM🚪 Vendor Setup: 6:00 AM – 8:30 AM (No vehicles allowed after 8:30 AM) \nJoin us for a full day of bargains\, treasures\, and community fun at the Lucas County Fairgrounds! \nVendor Information: \n\n\nBooths are first-come\, first-served – reserve your spot today! \n\n\nOutdoor space (15×10): $20 \n\n\nIndoor space (10×10): $20 \n\n\nTables: $9 each \n\n\nChairs: 2 for $4 \n\n\nNo refunds \n\n\nVendor entrance: South Gate by the railroad tracks \n\n\nVisitor parking: Hall 2 \n\n\nRegister online to guarantee your space! \n\n\nWhether you’re selling or shopping\, this is your chance to connect with the community\, find great deals\, and have a great time.
URL:https://lucascountyfair.com/events/community-garage-sale/
LOCATION:Lucas County Fairgrounds\, 1406 Key St.\, Maumee\, 43537\, United States
ATTACH;FMTTYPE=image/png:https://lucascountyfair.com/wp-content/uploads/2025/08/Lucas-County-Fair-Community-Garage-Sale-Event.png
END:VEVENT
BEGIN:VEVENT
DTSTART;TZID=America/Detroit:20250713T170000
DTEND;TZID=America/Detroit:20250713T170000
DTSTAMP:20260425T093747
CREATED:20250626T164756Z
LAST-MODIFIED:20250626T164844Z
UID:10000261-1752426000-1752426000@lucascountyfair.com
SUMMARY:Rodeo
DESCRIPTION:The Lucas County Fair has partnered with TK Pro Rodeo to bring you a one-night rodeo performance with top Cowboys and Cowgirls with a complete eight (8) event professional rodeo. \n  \nOn Sunday\, July 13th\, at 5:00 pm\, the event starts.
URL:https://lucascountyfair.com/events/rodeo/
LOCATION:Lucas County Fairgrounds\, 1406 Key St.\, Maumee\, 43537\, United States
ATTACH;FMTTYPE=image/png:https://lucascountyfair.com/wp-content/uploads/2025/06/2025-Lucas-County-Fair-Rodeo-Event.png
END:VEVENT
BEGIN:VEVENT
DTSTART;TZID=America/Detroit:20250713T100000
DTEND;TZID=America/Detroit:20250713T100000
DTSTAMP:20260425T093747
CREATED:20250708T010305Z
LAST-MODIFIED:20250708T010305Z
UID:10000267-1752400800-1752400800@lucascountyfair.com
SUMMARY:The Church Service
DESCRIPTION:Join us Sunday at 10:00 am for Church Service under the entertainment tent.  All denominations welcome. Causal Dress
URL:https://lucascountyfair.com/events/the-church-service/
LOCATION:Lucas County Fairgrounds\, 1406 Key St.\, Maumee\, 43537\, United States
ATTACH;FMTTYPE=image/png:https://lucascountyfair.com/wp-content/uploads/2025/07/Lucas-County-Fair-Church-Service-2025.png
END:VEVENT
BEGIN:VEVENT
DTSTART;TZID=America/Detroit:20250712T180000
DTEND;TZID=America/Detroit:20250712T180000
DTSTAMP:20260425T093747
CREATED:20250710T191002Z
LAST-MODIFIED:20250710T191227Z
UID:10000280-1752343200-1752343200@lucascountyfair.com
SUMMARY:Demolition Derby
DESCRIPTION:Demo Derby: Pits Open: 12 pm Inspection: 12 – 5 pm Race: 6 pm
URL:https://lucascountyfair.com/events/demolition-derby-2/
LOCATION:Lucas County Fairgrounds\, 1406 Key St.\, Maumee\, 43537\, United States
ATTACH;FMTTYPE=image/png:https://lucascountyfair.com/wp-content/uploads/2025/07/2025-Demo-Derby-Events.png
END:VEVENT
BEGIN:VEVENT
DTSTART;TZID=America/Detroit:20250712T180000
DTEND;TZID=America/Detroit:20250712T180000
DTSTAMP:20260425T093747
CREATED:20250630T202358Z
LAST-MODIFIED:20250630T202358Z
UID:10000266-1752343200-1752343200@lucascountyfair.com
SUMMARY:Demolition Derby
DESCRIPTION:Come on out on Saturday to watch the 2025 Demolition Derby. \nStandard spectator with admission. \nPit Cost: $25.oo (includes fair admission) \n 
URL:https://lucascountyfair.com/events/demolition-derby/
LOCATION:Lucas County Fairgrounds\, 1406 Key St.\, Maumee\, 43537\, United States
ATTACH;FMTTYPE=image/png:https://lucascountyfair.com/wp-content/uploads/2025/06/2025-Lucas-County-Fair-Demo-Derby-Event.png
END:VEVENT
BEGIN:VEVENT
DTSTART;TZID=America/Detroit:20250712T120000
DTEND;TZID=America/Detroit:20250712T120000
DTSTAMP:20260425T093747
CREATED:20250628T003735Z
LAST-MODIFIED:20250628T003735Z
UID:10000264-1752321600-1752321600@lucascountyfair.com
SUMMARY:Legacy Dog Training Demo Q&A
DESCRIPTION:Meet \nLearn \nWatch Us Work \nDog Demo Q&A
URL:https://lucascountyfair.com/events/legacy-dog-training-demo-qa/
LOCATION:Lucas County Fairgrounds\, 1406 Key St.\, Maumee\, 43537\, United States
ATTACH;FMTTYPE=image/png:https://lucascountyfair.com/wp-content/uploads/2025/06/2025-Legacy-Dog-Training-event.png
END:VEVENT
BEGIN:VEVENT
DTSTART;TZID=America/Detroit:20250712T110000
DTEND;TZID=America/Detroit:20250712T230000
DTSTAMP:20260425T093747
CREATED:20250617T162938Z
LAST-MODIFIED:20250618T005643Z
UID:10000251-1752318000-1752361200@lucascountyfair.com
SUMMARY:Lucas County Free Day at the Fair
DESCRIPTION:Courtesy of the Lucas County Commissioners\, Lucas County residents will receive free admission and a food voucher for a selection of free food at the 4-H Cafe.  \nJoin us on Thursday\, July 10th\, and Saturday\, July 12th.  \nWith your voucher\, you will get the choice of the following from the 4-H Cafe: \nOption 1: \n\nSausage Burger\nBrat\nDog\n\nChoice of Drink: \n\nPop\nWater\n\nOption 2: \n\nMilkshake from the Shake Shack\n\n 
URL:https://lucascountyfair.com/events/lucas-county-free-day-at-the-fair/
ATTACH;FMTTYPE=image/png:https://lucascountyfair.com/wp-content/uploads/2025/06/2025-Lucas-County-Free-Day-Facebook-Event-3.png
END:VEVENT
BEGIN:VEVENT
DTSTART;TZID=America/Detroit:20250711T190000
DTEND;TZID=America/Detroit:20250711T190000
DTSTAMP:20260425T093747
CREATED:20250710T202552Z
LAST-MODIFIED:20250710T222752Z
UID:10000281-1752260400-1752260400@lucascountyfair.com
SUMMARY:Dirt Bike Racing
DESCRIPTION:Dirt Bike \n\nPits open: 3\nPractice: 6\nRace: 7\nPits cost $20 (includes fair admission)\nNo charge to watch
URL:https://lucascountyfair.com/events/dirt-bike-racing/
LOCATION:Lucas County Fairgrounds\, 1406 Key St.\, Maumee\, 43537\, United States
ATTACH;FMTTYPE=image/png:https://lucascountyfair.com/wp-content/uploads/2025/07/2025-Dirt-Bike-Race-Event-1.png
END:VEVENT
BEGIN:VEVENT
DTSTART;TZID=America/Detroit:20250711T140000
DTEND;TZID=America/Detroit:20250711T140000
DTSTAMP:20260425T093747
CREATED:20250626T141605Z
LAST-MODIFIED:20250626T141853Z
UID:10000260-1752242400-1752242400@lucascountyfair.com
SUMMARY:Livestock Auction
DESCRIPTION:On July 11th at 2:00 p.m.\, the Livestock Auction will take place. \nCome out and support the kids through this auction.
URL:https://lucascountyfair.com/events/livestock-auction-2/
LOCATION:Lucas County Fairgrounds\, 1406 Key St.\, Maumee\, 43537\, United States
ATTACH;FMTTYPE=image/png:https://lucascountyfair.com/wp-content/uploads/2025/06/2025-Livestock-Auction-Event.png
END:VEVENT
BEGIN:VEVENT
DTSTART;TZID=America/Detroit:20250711T120000
DTEND;TZID=America/Detroit:20250711T120000
DTSTAMP:20260425T093747
CREATED:20250710T225021Z
LAST-MODIFIED:20250710T225021Z
UID:10000282-1752235200-1752235200@lucascountyfair.com
SUMMARY:Jr. Fair Horse Show Friday
DESCRIPTION:Starting at 10:00 am\, the Jr. Fair Horse Show will be taking place at the horse arena.
URL:https://lucascountyfair.com/events/jr-fair-horse-show-friday/
LOCATION:Lucas County Fairgrounds\, 1406 Key St.\, Maumee\, 43537\, United States
ATTACH;FMTTYPE=image/png:https://lucascountyfair.com/wp-content/uploads/2025/07/2025-Jr-Horse-Show-Friday.png
END:VEVENT
BEGIN:VEVENT
DTSTART;TZID=America/Detroit:20250710T170000
DTEND;TZID=America/Detroit:20250710T210000
DTSTAMP:20260425T093747
CREATED:20250710T031152Z
LAST-MODIFIED:20250710T031152Z
UID:10000277-1752166800-1752181200@lucascountyfair.com
SUMMARY:SUNNY DAYS AND CRAFT BEER NITES
DESCRIPTION: \n\n\nFrom 5 pm to 9 pm\n\n\n \n\n\nJoin us in enjoying the best breweries in Lucas County! \n\n\n \n\n\nOur Firetruck Taps will be spewing beer for you to judge the Award Winning Beer Tasting Contest. \n\n\n \n\n\nFor $20 you will receive a card good for a 3-oz sample of the 10 beers.\n\n\n \n\n\nWith each sample\, the participant will guess which brewery the craft beer is from. The participant will be entered in a prize drawing from Destination Toledo. 📍\n\n\n \n\n\nThe 2nd side of the card provides an area to rate the top 3 beers\, which will be revealed on Saturday at 4 pm. \n\n\n \n\n\nThe beer garden offers one choice of beer from each.\n\n\n \n\n\n#lucascountyfair2025 #lucascountybrewoff
URL:https://lucascountyfair.com/events/sunny-days-and-craft-beer-nites/
LOCATION:Lucas County Fairgrounds\, 1406 Key St.\, Maumee\, 43537\, United States
ATTACH;FMTTYPE=image/png:https://lucascountyfair.com/wp-content/uploads/2025/07/2025-Lucas-County-Fair-Brew-Off-FB-Event.png
END:VEVENT
BEGIN:VEVENT
DTSTART;TZID=America/Detroit:20250710T170000
DTEND;TZID=America/Detroit:20250710T170000
DTSTAMP:20260425T093747
CREATED:20250710T141856Z
LAST-MODIFIED:20250710T141856Z
UID:10000279-1752166800-1752166800@lucascountyfair.com
SUMMARY:Jr. Fair Swine Show
DESCRIPTION:Today at 5 pm in the Livestock Arena will be the Jr. Fair Swine Show.\n\n\n\nCome out\, enjoy\, and support our Jr. Fair Youth.
URL:https://lucascountyfair.com/events/jr-fair-swine-show/
LOCATION:Lucas County Fairgrounds\, 1406 Key St.\, Maumee\, 43537\, United States
ATTACH;FMTTYPE=image/png:https://lucascountyfair.com/wp-content/uploads/2025/07/2025-Jr-Fair-Swine-Show-Thursday.png
END:VEVENT
BEGIN:VEVENT
DTSTART;TZID=America/Detroit:20250710T130000
DTEND;TZID=America/Detroit:20250710T130000
DTSTAMP:20260425T093747
CREATED:20250618T010548Z
LAST-MODIFIED:20250618T010548Z
UID:10000252-1752152400-1752152400@lucascountyfair.com
SUMMARY:Limitless Livestock Show
DESCRIPTION:A FREE Show for Individuals with Disabilities\, including physical\, hearing\, and visual\, for ages 9 and up! \nHOW IT WORKS \n\nThis show is open to anyone who has a disability\, and does not show a\n4-H animal project\nIndividuals with disabilities sign up for the species they would like to\nshow (Chicken\, Rabbit\, Goat\, Sheep)\nJunior Fair members with animal projects will sign up to be mentors\nMentors (Junior Fair members) and Individuals with disabilities\n(Mentees) will be paired before the show \n\nThey will meet the animal and discuss the project\n\n\nTogether\, they will show the animal\nJudges will visit each project and ask the participants about the animal\n\n  \nC o n t a c t\ni n f o r m a t i o n :\nJess Burns\nsoffee.1@osu.edu
URL:https://lucascountyfair.com/events/limitless-livestock-show-2/
ATTACH;FMTTYPE=image/png:https://lucascountyfair.com/wp-content/uploads/2025/06/2025-Lucas-County-Fair-Limitless-Livestock-Show-FB-Event.png
END:VEVENT
BEGIN:VEVENT
DTSTART;TZID=America/Detroit:20250710T110000
DTEND;TZID=America/Detroit:20250710T220000
DTSTAMP:20260425T093747
CREATED:20250429T222701Z
LAST-MODIFIED:20250617T224616Z
UID:10000250-1752145200-1752184800@lucascountyfair.com
SUMMARY:Lucas County Free Day at the Fair
DESCRIPTION:Courtesy of the Lucas County Commissioners\, Lucas County residents will receive free admission and a food voucher for a selection of free food at the 4-H Cafe.  \nJoin us on Thursday\, July 10th\, and Saturday\, July 12th.  \nWith your voucher\, you will get the choice of the following from the 4-H Cafe: \nOption 1: \n\nSausage Burger\nBrat\nDog\n\nChoice of Drink: \n\nPop\nWater\n\nOption 2: \n\nMilkshake from the Shake Shack\n\n 
URL:https://lucascountyfair.com/events/northwest-ohio-showdown/
LOCATION:Lucas County Fairgrounds\, 1406 Key St.\, Maumee\, 43537\, United States
ATTACH;FMTTYPE=image/png:https://lucascountyfair.com/wp-content/uploads/2025/06/2025-Lucas-County-Free-Day-Facebook-Event-3.png
END:VEVENT
BEGIN:VEVENT
DTSTART;TZID=America/Detroit:20250710T100000
DTEND;TZID=America/Detroit:20250710T100000
DTSTAMP:20260425T093747
CREATED:20250710T035743Z
LAST-MODIFIED:20250710T035743Z
UID:10000278-1752141600-1752141600@lucascountyfair.com
SUMMARY:Thursday Jr. Fair Horse Show
DESCRIPTION:Today at 10 am\, the Jr. Fair Horse Show will be taking place at the show arena.\n\n\nWe would love to see you out at the arena.
URL:https://lucascountyfair.com/events/thursday-jr-fair-horse-show/
LOCATION:Lucas County Fairgrounds\, 1406 Key St.\, Maumee\, 43537\, United States
ATTACH;FMTTYPE=image/png:https://lucascountyfair.com/wp-content/uploads/2025/07/2025-Jr-Fair-Horseshow-2.png
END:VEVENT
BEGIN:VEVENT
DTSTART;TZID=America/Detroit:20250710T100000
DTEND;TZID=America/Detroit:20250710T100000
DTSTAMP:20260425T093747
CREATED:20250628T005635Z
LAST-MODIFIED:20250628T011407Z
UID:10000265-1752141600-1752141600@lucascountyfair.com
SUMMARY:On The Spot Flower Arrangement
DESCRIPTION:On The Spot Flower Arrangement \nThursday\, July 10th\, in the Stucco Building. \nCheck-in: 10 am \nTutorial: 10:30 am \nContest: 11:00 am
URL:https://lucascountyfair.com/events/on-the-spot-flower-arrangement/
LOCATION:Lucas County Fairgrounds\, 1406 Key St.\, Maumee\, 43537\, United States
ATTACH;FMTTYPE=image/png:https://lucascountyfair.com/wp-content/uploads/2025/06/2024-Lucas-County-Fair-Flower-Event-1.png
END:VEVENT
BEGIN:VEVENT
DTSTART;TZID=America/Detroit:20250709T190000
DTEND;TZID=America/Detroit:20250709T190000
DTSTAMP:20260425T093747
CREATED:20250709T021311Z
LAST-MODIFIED:20250709T021311Z
UID:10000276-1752087600-1752087600@lucascountyfair.com
SUMMARY:Go-Kart race!
DESCRIPTION:Set your schedule to come out and enjoy the Go-Kart race!\n\n\nGo-Karts:\nPits Open: 3 pm\nPractice: 6 pm\nRace: 7 pm
URL:https://lucascountyfair.com/events/go-kart-race/
LOCATION:Lucas County Fairgrounds\, 1406 Key St.\, Maumee\, 43537\, United States
ATTACH;FMTTYPE=image/jpeg:https://lucascountyfair.com/wp-content/uploads/2025/07/dirt-kart.jpg
END:VEVENT
BEGIN:VEVENT
DTSTART;TZID=America/Detroit:20250709T180000
DTEND;TZID=America/Detroit:20250709T200000
DTSTAMP:20260425T093747
CREATED:20250626T134246Z
LAST-MODIFIED:20250626T134246Z
UID:10000259-1752084000-1752091200@lucascountyfair.com
SUMMARY:Hands-On Wine Making
DESCRIPTION:Hands-On Wine Making in the Arts and Crafts Building on July 9\, 2025\, from 6 – 8 pm. \nBring your own empty bottle and leave with a full bottle. \nWHILE SUPPLIES LAST \nYou must be over 21 years old.
URL:https://lucascountyfair.com/events/hands-on-wine-making-3/
LOCATION:Lucas County Fairgrounds\, 1406 Key St.\, Maumee\, 43537\, United States
ATTACH;FMTTYPE=image/png:https://lucascountyfair.com/wp-content/uploads/2025/06/2025-Lucas-County-Fair-Wine-Tasting-FB-Event.png
END:VEVENT
BEGIN:VEVENT
DTSTART;TZID=America/Detroit:20250709T180000
DTEND;TZID=America/Detroit:20250709T200000
DTSTAMP:20260425T093747
CREATED:20250626T042015Z
LAST-MODIFIED:20250626T134604Z
UID:10000258-1752084000-1752091200@lucascountyfair.com
SUMMARY:Homemade Sourdough Contest
DESCRIPTION:Enter your favorite homemade Sourdough Loaf! \nLoaf will be judged on appearance and taste. \nPrize payout is \n1st place = $50\n2nd place = $25\n3rd place = $10
URL:https://lucascountyfair.com/events/homemade-sourdough-contest/
LOCATION:Lucas County Fairgrounds\, 1406 Key St.\, Maumee\, 43537\, United States
ATTACH;FMTTYPE=image/png:https://lucascountyfair.com/wp-content/uploads/2025/06/2025-Lucas-County-Fair-Homemade-Sourdough-Contest-Event.png
END:VEVENT
BEGIN:VEVENT
DTSTART;TZID=America/Detroit:20250709T110000
DTEND;TZID=America/Detroit:20250709T150000
DTSTAMP:20260425T093747
CREATED:20250626T040104Z
LAST-MODIFIED:20250626T040104Z
UID:10000257-1752058800-1752073200@lucascountyfair.com
SUMMARY:Veteran & Senior Citizen Day
DESCRIPTION:Welcome to our annual celebration of our Seniors & Veterans Day at the Lucas County Fair. \nAdmission is $1.00 for Seniors & Veterans \nWe have a free lunch of \nBean Soup\nCornbread\nSalad\nDesert \nWe have scheduled vendors & activities.
URL:https://lucascountyfair.com/events/veteran-senior-citizen-day/
LOCATION:Lucas County Fairgrounds\, 1406 Key St.\, Maumee\, 43537\, United States
ATTACH;FMTTYPE=image/png:https://lucascountyfair.com/wp-content/uploads/2025/06/2025-SeniorVeterans-Day-Event.png
END:VEVENT
BEGIN:VEVENT
DTSTART;TZID=America/Detroit:20250708T180000
DTEND;TZID=America/Detroit:20250708T220000
DTSTAMP:20260425T093747
CREATED:20250709T000343Z
LAST-MODIFIED:20250709T000343Z
UID:10000275-1751997600-1752012000@lucascountyfair.com
SUMMARY:Whitehead/Mac
DESCRIPTION:Whitehead/Mac\, local performers in the Toledo area\, play classic rock.
URL:https://lucascountyfair.com/events/whitehead-mac/
LOCATION:Lucas County Fairgrounds\, 1406 Key St.\, Maumee\, 43537\, United States
ATTACH;FMTTYPE=image/png:https://lucascountyfair.com/wp-content/uploads/2025/07/2025-Lucas-County-Fair-Daily-Music-Flyer-Event.png
END:VEVENT
BEGIN:VEVENT
DTSTART;TZID=America/Detroit:20250708T180000
DTEND;TZID=America/Detroit:20250708T220000
DTSTAMP:20260425T093747
CREATED:20250708T155538Z
LAST-MODIFIED:20250708T155538Z
UID:10000273-1751997600-1752012000@lucascountyfair.com
SUMMARY:Roadhouse Rebels
DESCRIPTION:Roadhouse Rebels – a 3-piece band featuring Johnny\, Gordy\, and Carl – perform Country and Classic Rock.
URL:https://lucascountyfair.com/events/roadhouse-rebels/
LOCATION:Lucas County Fairgrounds\, 1406 Key St.\, Maumee\, 43537\, United States
ATTACH;FMTTYPE=image/png:https://lucascountyfair.com/wp-content/uploads/2025/07/2025-Lucas-County-Fair-Daily-Music-Flyer-Event.png
END:VEVENT
BEGIN:VEVENT
DTSTART;TZID=America/Detroit:20250708T180000
DTEND;TZID=America/Detroit:20250708T200000
DTSTAMP:20260425T093747
CREATED:20250708T153619Z
LAST-MODIFIED:20250708T153619Z
UID:10000269-1751997600-1752004800@lucascountyfair.com
SUMMARY:Learn to Drive Go-Karts
DESCRIPTION: \n\n\nFrom 12:00 pm to 2:00 pm and 6:00 pm to 8:00 pm\, we will provide instructions\, demonstrations\, and opportunities.
URL:https://lucascountyfair.com/events/learn-to-drive-go-karts-2/
LOCATION:Lucas County Fairgrounds\, 1406 Key St.\, Maumee\, 43537\, United States
ATTACH;FMTTYPE=image/jpeg:https://lucascountyfair.com/wp-content/uploads/2025/07/dirt-kart.jpg
END:VEVENT
BEGIN:VEVENT
DTSTART;TZID=America/Detroit:20250708T180000
DTEND;TZID=America/Detroit:20250708T190000
DTSTAMP:20260425T093747
CREATED:20250626T033617Z
LAST-MODIFIED:20250629T033527Z
UID:10000256-1751997600-1752001200@lucascountyfair.com
SUMMARY:4-H Alumni Night
DESCRIPTION:📣 Calling All 4-H Alumni! \nCome home to the Lucas County Fair on Tuesday\, July 8th\, from 6–7 PM for a special 4-H Pin Exchange! 💚✨ \nReconnect with fellow alumni\, meet current 4-H members\, and share your stories from the show ring\, camp\, or club days. While you’re there\, check out the Goat & Sheep Livestock Show and the Horse Junior Fair Show—all happening that evening! 🐐🐑🐎 \nDon’t forget to stop by the 4-H Café for a bite to eat and support our amazing youth. \nLet’s celebrate the legacy of 4-H—once a member\, always a member! 🍀
URL:https://lucascountyfair.com/events/4-h-alumni-night/
LOCATION:Lucas County Fairgrounds\, 1406 Key St.\, Maumee\, 43537\, United States
ATTACH;FMTTYPE=image/png:https://lucascountyfair.com/wp-content/uploads/2025/06/2025-4-H-Alumni-Night-events.png
END:VEVENT
END:VCALENDAR