BEGIN:VCALENDAR
VERSION:2.0
PRODID:-//Lucas County Fair - ECPv6.15.20//NONSGML v1.0//EN
CALSCALE:GREGORIAN
METHOD:PUBLISH
X-WR-CALNAME:Lucas County Fair
X-ORIGINAL-URL:https://lucascountyfair.com
X-WR-CALDESC:Events for Lucas County Fair
REFRESH-INTERVAL;VALUE=DURATION:PT1H
X-Robots-Tag:noindex
X-PUBLISHED-TTL:PT1H
BEGIN:VTIMEZONE
TZID:America/Detroit
BEGIN:DAYLIGHT
TZOFFSETFROM:-0500
TZOFFSETTO:-0400
TZNAME:EDT
DTSTART:20240310T070000
END:DAYLIGHT
BEGIN:STANDARD
TZOFFSETFROM:-0400
TZOFFSETTO:-0500
TZNAME:EST
DTSTART:20241103T060000
END:STANDARD
BEGIN:DAYLIGHT
TZOFFSETFROM:-0500
TZOFFSETTO:-0400
TZNAME:EDT
DTSTART:20250309T070000
END:DAYLIGHT
BEGIN:STANDARD
TZOFFSETFROM:-0400
TZOFFSETTO:-0500
TZNAME:EST
DTSTART:20251102T060000
END:STANDARD
BEGIN:DAYLIGHT
TZOFFSETFROM:-0500
TZOFFSETTO:-0400
TZNAME:EDT
DTSTART:20260308T070000
END:DAYLIGHT
BEGIN:STANDARD
TZOFFSETFROM:-0400
TZOFFSETTO:-0500
TZNAME:EST
DTSTART:20261101T060000
END:STANDARD
END:VTIMEZONE
BEGIN:VEVENT
DTSTART;TZID=America/Detroit:20250927T100000
DTEND;TZID=America/Detroit:20250927T200000
DTSTAMP:20260425T202410
CREATED:20250925T155208Z
LAST-MODIFIED:20250925T155208Z
UID:10000288-1758967200-1759003200@lucascountyfair.com
SUMMARY:Hot Tub & Swim Spa Blowout Expo
DESCRIPTION:Hot Tub & Swim Spa Blowout Expo \nThis Weekend\, SEPTEMBER 26 – 28\, 2025 \nLucas County Fairgrounds \nHours: Fri 2p-8p\, Sat 10a-8p\, Sun 10a-5p \nShow Admission Is Free \nSave Big on a huge selection of Hot Tubs and Swim Spas from major brands!  Over 30 Hot Tubs and Swim Spas will be on display from 5 major brands at huge discounts.  Financing is available (with approved credit). \nHotTubOH.com
URL:https://lucascountyfair.com/events/hot-tub-swim-spa-blowout-expo-2/
LOCATION:Lucas County Fairgrounds\, 1406 Key St.\, Maumee\, 43537\, United States
ATTACH;FMTTYPE=image/jpeg:https://lucascountyfair.com/wp-content/uploads/2025/09/200x200.jpg
END:VEVENT
END:VCALENDAR